BEGIN:VCALENDAR
VERSION:2.0
PRODID:-//ChamberMaster//Event Calendar 2.0//EN
METHOD:PUBLISH
X-PUBLISHED-TTL:P3D
REFRESH-INTERVAL:P3D
CALSCALE:GREGORIAN
BEGIN:VEVENT
DTSTART:20180504T150000Z
DTEND:20180504T180000Z
X-MICROSOFT-CDO-ALLDAYEVENT:FALSE
SUMMARY:Small Business Appreciation Day
DESCRIPTION:Please join us to celebrate local small businesses at Ameris Bank in Irmo on May 4\, 2018 from 11am-2pm. We will serve a light lunch and have giveaways. Hope to see you there!
X-ALT-DESC;FMTTYPE=text/html:Please join us to celebrate local small businesses at Ameris Bank in Irmo on May 4\, 2018 from 11am-2pm. We will serve a light lunch and have giveaways. Hope to see you there!
LOCATION:
UID:e.1333.2998
SEQUENCE:3
DTSTAMP:20260423T194227Z
URL:https://business.greaterirmochamber.com/events/details/small-business-appreciation-day-2998
END:VEVENT

END:VCALENDAR
