BEGIN:VCALENDAR
VERSION:2.0
PRODID:-//ChamberMaster//Event Calendar 2.0//EN
METHOD:PUBLISH
X-PUBLISHED-TTL:P3D
REFRESH-INTERVAL:P3D
CALSCALE:GREGORIAN
BEGIN:VEVENT
DTSTART:20251129T150000Z
DTEND:20251129T230000Z
X-MICROSOFT-CDO-ALLDAYEVENT:FALSE
SUMMARY:Small Business Saturday
DESCRIPTION:Join us to shop on small business Saturday at Knick Knacks & More in Irmo! \n\n\n\nSaturday's Food Truck: Grumpy Cocina from 10:30am-2:30pm\n\n\n\nWe will do a Free Sip 'n Shop & taste testing on Saturday and Sunday.
X-ALT-DESC;FMTTYPE=text/html:Join us to shop on small business Saturday at Knick Knacks &amp\; More in Irmo!&nbsp\;<br />\n<br />\nSaturday&#39\;s Food Truck: Grumpy Cocina from 10:30am-2:30pm<br />\n<br />\nWe will do a Free Sip &#39\;n Shop &amp\; taste testing on Saturday and Sunday.&nbsp\;<br />\n&nbsp\;
LOCATION:1580 Dutch Fork Road Irmo SC 29063
UID:e.1333.6242
SEQUENCE:3
DTSTAMP:20260422T233634Z
URL:https://business.greaterirmochamber.com/events/details/small-business-saturday-6242
END:VEVENT

END:VCALENDAR
