BEGIN:VCALENDAR
VERSION:2.0
PRODID:-//ChamberMaster//Event Calendar 2.0//EN
METHOD:PUBLISH
X-PUBLISHED-TTL:P3D
REFRESH-INTERVAL:P3D
CALSCALE:GREGORIAN
BEGIN:VEVENT
DTSTART:20181017T160000Z
DTEND:20181017T170000Z
X-MICROSOFT-CDO-ALLDAYEVENT:FALSE
SUMMARY:Social Media Round Table
DESCRIPTION:Come join us in a peer-to-peer discussion with some business leaders from the Irmo Community who have developed strategies and are enjoying success with their social media marketing.  We'll welcome Alex Salmon from Salmon Allstate\, Josh Eleazer from Premier Home Inspections\, Chris Arzu from 9 Round Kickbox Fitness and Cynthia Giles from Cut Throat Marketing and open up the floor for your questions and discussion.  A light lunch will be served.
X-ALT-DESC;FMTTYPE=text/html:Come join us in a peer-to-peer discussion with some business leaders from the Irmo Community who have developed strategies and are enjoying success with their social media marketing. &nbsp\;We&#39\;ll welcome Alex Salmon from Salmon Allstate\, Josh Eleazer from Premier Home Inspections\, Chris Arzu from 9 Round Kickbox Fitness and Cynthia Giles from Cut Throat Marketing and open up the floor for your questions and discussion. &nbsp\;A light lunch will be served.
LOCATION:Greater Irmo Chamber 1235 Columbia Ave. Irmo\, SC 29063
UID:e.1333.3273
SEQUENCE:3
DTSTAMP:20260423T114755Z
URL:https://business.greaterirmochamber.com/events/details/social-media-round-table-3273
END:VEVENT

END:VCALENDAR
