BEGIN:VCALENDAR
VERSION:2.0
PRODID:-//ChamberMaster//Event Calendar 2.0//EN
METHOD:PUBLISH
X-PUBLISHED-TTL:P3D
REFRESH-INTERVAL:P3D
CALSCALE:GREGORIAN
BEGIN:VEVENT
DTSTART:20161027T203000Z
DTEND:20161027T223000Z
X-MICROSOFT-CDO-ALLDAYEVENT:FALSE
SUMMARY:SOCK HOP KARAOKE AT HARBORCHASE OF COLUMBIA
DESCRIPTION:Join us at HarborChase for an enchanted evening of music and fun as we celebrate the "Fabulous Fifties" with Sock Hop Karaoke! Relax and have cocktails with colleagues and professionals as we "Twist Again" and "Rock Around the Clock." Break out your poodle skirts and letterman jackets and belt out your 50s favorites in our karaoke competition. The best karaoke rendition wins the Grand Prize! The first 5 to RSVP will receive a free gift! Call today! (803) 781-2243.
X-ALT-DESC;FMTTYPE=text/html:Join us at HarborChase for an enchanted evening of music and fun as we celebrate the &ldquo\;Fabulous Fifties&rdquo\; with Sock Hop Karaoke! Relax and have cocktails with colleagues and professionals as we &ldquo\;Twist Again&rdquo\; and &ldquo\;Rock Around the Clock.&rdquo\; Break out your poodle skirts and letterman jackets and belt out your 50s favorites in our karaoke competition. The best karaoke rendition wins the Grand Prize! <strong>The first 5 to RSVP will receive a free gift! Call today! (803) 781-2243. </strong>
LOCATION:HarborChase of Columbia 120 Fairforest Road Columbia\, SC 29212
UID:e.1333.2491
SEQUENCE:3
DTSTAMP:20260425T020753Z
URL:https://business.greaterirmochamber.com/events/details/sock-hop-karaoke-at-harborchase-of-columbia-2491
END:VEVENT

END:VCALENDAR
