BEGIN:VCALENDAR
VERSION:2.0
PRODID:-//ChamberMaster//Event Calendar 2.0//EN
METHOD:PUBLISH
X-PUBLISHED-TTL:P3D
REFRESH-INTERVAL:P3D
CALSCALE:GREGORIAN
BEGIN:VEVENT
DTSTART:20200917T190000Z
DTEND:20200917T200000Z
X-MICROSOFT-CDO-ALLDAYEVENT:FALSE
SUMMARY:SPEAK! WRITE! with Christy Cox
DESCRIPTION:Pitch Your PJs!  It's Time to Talk!\n\n\n\nHas Covid-19 left you feeling sick about speaking in public? \n\n\n\nDoes the thought of a live crowd leave you zealous for Zoom? \n\n\n\nAre you mumbling behind that mask?\n\n\n\nWe have the antidote!  \n\n\n\nOne of our Gold partners\, Christy Cox\, owner of BodyChekSportsEssentials.com\, is a longtime speechwriter with more than three decades experience as a TV reporter and as a communications director in the government and diplomatic fields. She has plenty of pro-tips to make public speaking easier   even fun   she can't wait to share with us!  These days won't last forever\, but impactful speaking skills serve a lifetime!\n\n\n\nThis is a FREE event for Irmo Chamber Partners and masks are required in the Chamber House!
X-ALT-DESC;FMTTYPE=text/html:<span style="font-family:verdana\;"><span style="font-size:16px\;"><strong>Pitch Your PJs!&nbsp\; It&rsquo\;s Time to Talk!</strong><br />\n<br />\nHas <strong>Covid-19</strong> left you feeling sick about&nbsp\;speaking in public?&nbsp\;<br />\n<br />\nDoes the thought of a live crowd leave you zealous for <strong>Zoom</strong>?&nbsp\;<br />\n<br />\nAre you mumbling behind that <strong>mask</strong>?<br />\n<br />\nWe have the antidote!&nbsp\;&nbsp\;<br />\n<br />\n<span style="position:static !important\;margin:0px !important\;padding:0px !important\;opacity:1 !important\;float:inherit !important\;font-style:inherit !important\;font-variant-caps:inherit !important\;font-stretch:inherit !important\;">One of our Gold partners\, <strong>Christy Cox</strong>\, owner of <strong>BodyChekSportsEssentials.com</strong>\, is a longtime speechwriter with more than three decades experience as a&nbsp\;</span>TV reporter and as a communications director in the government and diplomatic fields.&nbsp\;She has <strong>plenty</strong> of pro-tips to make public speaking <strong>easier</strong> &ndash\; even fun &ndash\; she can&rsquo\;t wait to share with us!&nbsp\;&nbsp\;These days won&rsquo\;t last forever\, <strong>but impactful speaking skills serve a lifetime</strong>!<br />\n<br />\n<strong>This is a FREE event for Irmo Chamber Partners and masks are required in the Chamber House!</strong></span></span><br />\n&nbsp\;
LOCATION:
UID:e.1333.3954
SEQUENCE:3
DTSTAMP:20260422T030835Z
URL:https://business.greaterirmochamber.com/events/details/speak-write-with-christy-cox-3954
END:VEVENT

END:VCALENDAR
