BEGIN:VCALENDAR
VERSION:2.0
PRODID:-//ChamberMaster//Event Calendar 2.0//EN
METHOD:PUBLISH
X-PUBLISHED-TTL:P3D
REFRESH-INTERVAL:P3D
CALSCALE:GREGORIAN
BEGIN:VEVENT
DTSTART:20170319T160000Z
DTEND:20170319T230000Z
X-MICROSOFT-CDO-ALLDAYEVENT:FALSE
SUMMARY:Special Olympics Bocce Bash
DESCRIPTION:Special Olympics needs teams for their Thirsty Fellow Bocce Bash!!!\n\nTeams of four needed!\n\nLunch and beverages will be provided for teams.
X-ALT-DESC;FMTTYPE=text/html:Special Olympics needs teams for their Thirsty Fellow Bocce Bash!!!<br />\nTeams of four needed!<br />\nLunch and beverages will be provided for teams.
LOCATION:740 Green Field 740 Green Street Columbia\, SC
UID:e.1333.2534
SEQUENCE:3
DTSTAMP:20260424T171217Z
URL:https://business.greaterirmochamber.com/events/details/special-olympics-bocce-bash-2534
END:VEVENT

END:VCALENDAR
