BEGIN:VCALENDAR
VERSION:2.0
PRODID:-//ChamberMaster//Event Calendar 2.0//EN
METHOD:PUBLISH
X-PUBLISHED-TTL:P3D
REFRESH-INTERVAL:P3D
CALSCALE:GREGORIAN
BEGIN:VEVENT
DTSTART:20181005T130000Z
DTEND:20181005T170000Z
X-MICROSOFT-CDO-ALLDAYEVENT:FALSE
SUMMARY:Spine Pain Center Patient Appreciation Day
DESCRIPTION:SPINE PAIN CENTER PATIENT APPRECIATION DAY\n\nMusic/food/vendors/door prizes\n\n$10 adjustment for existing patients \n\n$20 consultations for new patients\n\n$10 for ten minute massages\n\nCall ahead to schedule!\n\nALL PROCEEDS GO TO THE MUSCULAR DYSTROPHY ASSOCIATION!
X-ALT-DESC;FMTTYPE=text/html:SPINE PAIN CENTER PATIENT APPRECIATION DAY<br />\nMusic/food/vendors/door prizes<br />\n$10 adjustment for existing patients&nbsp\;<br />\n$20 consultations for new patients<br />\n$10 for ten minute massages<br />\nCall ahead to schedule!<br />\nALL PROCEEDS GO TO THE MUSCULAR DYSTROPHY ASSOCIATION!
LOCATION:7453 Irmo Drive Columbia\, SC 29212
UID:e.1333.3261
SEQUENCE:3
DTSTAMP:20260423T115702Z
URL:https://business.greaterirmochamber.com/events/details/spine-pain-center-patient-appreciation-day-3261
END:VEVENT

END:VCALENDAR
