BEGIN:VCALENDAR
VERSION:2.0
PRODID:-//ChamberMaster//Event Calendar 2.0//EN
METHOD:PUBLISH
X-PUBLISHED-TTL:P3D
REFRESH-INTERVAL:P3D
CALSCALE:GREGORIAN
BEGIN:VEVENT
DTSTART:20200910T203000Z
DTEND:20200910T223000Z
X-MICROSOFT-CDO-ALLDAYEVENT:FALSE
SUMMARY:Splurge Grand Opening & After Hours
DESCRIPTION:Splurge Vinyl and Community Craft Store is moving just a few doors down to their new\, larger location in Seven Oaks Shopping Center (in the old Hannah Piano location)!  Join us for a Grand Opening and After Hours on Thursday\, September 10\, 2020 from 4:30PM-6:30PM and enjoy some networking\, drinks and snacks.  \n\n\n\nWhile this new space provides plenty of room for social distancing\, the #FunChamber asks that you wear a face mask when not eating or drinking.  \n\n \n\nSplurge will be open all day so come by and check it out even if you can't make it to our event!
X-ALT-DESC;FMTTYPE=text/html:<div><span style="font-size:16px\;"><i style="caret-color: rgb(0\, 0\, 0)\; color: rgb(0\, 0\, 0)\;"><strong>Splurge Vinyl and Community Craft Store</strong> is moving just a few doors down to their new\, larger location in <strong>Seven Oaks Shopping Center</strong> (in the old Hannah Piano location)! &nbsp\;Join us for a <strong>Grand Opening</strong> and <strong>After Hours&nbsp\;</strong>on <strong>Thursday\, September 10\, 2020</strong> from <strong>4:30PM-6:30PM </strong>and enjoy some networking\, drinks and snacks. &nbsp\;</i><br />\n<br />\n<em>While this new space&nbsp\;provides plenty of room for social distancing\, the <strong>#FunChamber</strong> asks that you wear a face mask when not eating or drinking. &nbsp\;</em></span></div>\n\n<div style="caret-color: rgb(0\, 0\, 0)\; color: rgb(0\, 0\, 0)\;">&nbsp\;</div>\n\n<div style="caret-color: rgb(0\, 0\, 0)\; color: rgb(0\, 0\, 0)\;"><em><span style="font-size:16px\;"><strong>Splurge</strong> will be open all day so come by and check it out even if you can&#39\;t make it to our event!</span></em></div>\n
LOCATION:
UID:e.1333.3956
SEQUENCE:3
DTSTAMP:20260422T045702Z
URL:https://business.greaterirmochamber.com/events/details/splurge-grand-opening-after-hours-3956
END:VEVENT

END:VCALENDAR
