BEGIN:VCALENDAR
VERSION:2.0
PRODID:-//ChamberMaster//Event Calendar 2.0//EN
METHOD:PUBLISH
X-PUBLISHED-TTL:P3D
REFRESH-INTERVAL:P3D
CALSCALE:GREGORIAN
BEGIN:VEVENT
DTSTART:20170406T150000Z
DTEND:20170406T173000Z
X-MICROSOFT-CDO-ALLDAYEVENT:FALSE
SUMMARY:SPRING FLING LUNCH AT LAKE WOODCROSS
DESCRIPTION:Spring means it's time for sunshine\, blooming flowers\, singing birds and new beginnings. Enjoy lunch on Lake Woodcross as you network with other senior care professionals in our area. \n\nFriendships will be blooming! \n\nFor Network Blooming Call! 803-780-4468
X-ALT-DESC;FMTTYPE=text/html:<p><strong><span style="font-size:16px"><span style="color:rgb(128\, 0\, 128)">Spring means it&rsquo\;s time for sunshine\, blooming flowers\, singing birds and new beginnings. Enjoy lunch on Lake Woodcross as you network with other senior care professionals in our area. </span></span></strong></p>\n\n<p><strong><span style="color:rgb(0\, 255\, 102)"><span style="font-size:16px"><em>Friendships will be blooming! </em></span></span></strong></p>\n\n<p><strong><span style="font-size:16px"><span style="color:rgb(255\, 140\, 0)">For Network Blooming Call! 803-780-4468</span> </span></strong><br />\n<br />\n&nbsp\;</p>\n\n<p>&nbsp\;</p>\n
LOCATION:120 Fairforest Road Columbia\, SC 29212 - Exit 103 Off Interstate I-26\, Harbison Blvd\, Near Home Depot
UID:e.1333.2542
SEQUENCE:3
DTSTAMP:20260424T155432Z
URL:https://business.greaterirmochamber.com/events/details/spring-fling-lunch-at-lake-woodcross-2542
END:VEVENT

END:VCALENDAR
