BEGIN:VCALENDAR
VERSION:2.0
PRODID:-//ChamberMaster//Event Calendar 2.0//EN
METHOD:PUBLISH
X-PUBLISHED-TTL:P3D
REFRESH-INTERVAL:P3D
CALSCALE:GREGORIAN
BEGIN:VEVENT
DTSTART:20171202T143000Z
DTEND:20171202T160000Z
X-MICROSOFT-CDO-ALLDAYEVENT:FALSE
SUMMARY:Squat for Spot
DESCRIPTION:As everyone knows\, we at Athlete's Arena are passionate about animals. It's because of our love for animals that we have decided to host a fundraising event to raise money for Homeward Bound Pet Rescue. Homeward Bound is an all-volunteer\, nonprofit animal rescue in the Columbia/Irmo area. Their goal is to make a difference in our community by rescuing stray\, homeless and abandoned animals primarily dogs\, from high-kill shelters and from owners who can no longer provide for them. Homeward Bound recently broke ground on an emergency overflow kennel\, which makes this a great time to make a difference. Please join us at Athlete's Arena on Saturday\, December 2 beginning at 9:30AM to Squat for Spot. This event will feature workouts with many different weightlifting\, gymnastic and body weighted movements and is programmed for partners. Scaling options are available to accommodate all participant's abilities and experience levels. The workouts will be posted closer to the event. The fee to participate in this fundraising event is $25 and all proceeds will go directly to Homeward Bound. All donations are tax deductible. Registration is open so please plan to take time to visit Athlete Arena's website at https://www.athletesarena.com/ and register for this fundraising event and help us support this great cause. Thank you. Heather Kobus and Athlete's Arena
X-ALT-DESC;FMTTYPE=text/html:As everyone knows\, we at Athlete&#39\;s Arena are passionate about animals. It&rsquo\;s because of our love for animals that we have decided to host a fundraising event to raise money for Homeward Bound Pet Rescue. Homeward Bound is an all-volunteer\, nonprofit animal rescue in the Columbia/Irmo area. Their goal is to make a difference in our community by rescuing stray\, homeless and abandoned animals primarily dogs\, from high-kill shelters and from owners who can no longer provide for them. Homeward Bound recently broke ground on an emergency overflow kennel\, which makes this a great time to make a difference. Please join us at Athlete&rsquo\;s Arena on Saturday\, December 2 beginning at 9:30AM to Squat for Spot. This event will feature workouts with many different weightlifting\, gymnastic and body weighted movements and is programmed for partners. Scaling options are available to accommodate all participant&rsquo\;s abilities and experience levels. The workouts will be posted closer to the event. The fee to participate in this fundraising event is $25 and all proceeds will go directly to Homeward Bound. All donations are tax deductible. Registration is open so please plan to take time to visit Athlete Arena&rsquo\;s website at https://www.athletesarena.com/ and register for this fundraising event and help us support this great cause. Thank you. Heather Kobus and Athlete&rsquo\;s Arena
LOCATION:Athlete's Arena (Irmo location) Inside the Plex Irmo 1019 Broad Stone Road Irmo\, SC 29063
UID:e.1333.2932
SEQUENCE:3
DTSTAMP:20260424T034000Z
URL:https://business.greaterirmochamber.com/events/details/squat-for-spot-2932
END:VEVENT

END:VCALENDAR
