BEGIN:VCALENDAR
VERSION:2.0
PRODID:-//ChamberMaster//Event Calendar 2.0//EN
METHOD:PUBLISH
X-PUBLISHED-TTL:P3D
REFRESH-INTERVAL:P3D
CALSCALE:GREGORIAN
BEGIN:VEVENT
DTSTART:20180319T200000Z
DTEND:20180319T210000Z
X-MICROSOFT-CDO-ALLDAYEVENT:FALSE
SUMMARY:Steam & Ice Ribbon Cutting
DESCRIPTION:Join us as we welcome Steam & Ice to our Chamber family!  We'll cut the ribbon around 4:45pm.  Please come out and enjoy this great networking event.
X-ALT-DESC;FMTTYPE=text/html:Join us as we welcome Steam &amp\; Ice to our Chamber family! &nbsp\;We&#39\;ll cut the ribbon around 4:45pm. &nbsp\;Please come out and enjoy this great networking event.
LOCATION:275 Harbison Blvd. Columbia\, SC 29212 In the Total Wine Shopping Center
UID:e.1333.2982
SEQUENCE:3
DTSTAMP:20260423T230048Z
URL:https://business.greaterirmochamber.com/events/details/steam-ice-ribbon-cutting-2982
END:VEVENT

END:VCALENDAR
