BEGIN:VCALENDAR
VERSION:2.0
PRODID:-//ChamberMaster//Event Calendar 2.0//EN
METHOD:PUBLISH
X-PUBLISHED-TTL:P3D
REFRESH-INTERVAL:P3D
CALSCALE:GREGORIAN
BEGIN:VEVENT
DTSTART:20160825T153000Z
DTEND:20160825T163000Z
X-MICROSOFT-CDO-ALLDAYEVENT:FALSE
SUMMARY:Strategic Point of Sale & Business Solutions Ribbon Cutting
DESCRIPTION:Join us to welcome Strategic Point of Sale & Business Solutions to our chamber. Lunch provided.
X-ALT-DESC;FMTTYPE=text/html:Join us to welcome Strategic Point of Sale &amp\; Business Solutions to our chamber. Lunch provided.
LOCATION:7366 Two Notch Road Columbia\, SC 29223
UID:e.1333.2432
SEQUENCE:3
DTSTAMP:20260425T034215Z
URL:https://business.greaterirmochamber.com/events/details/strategic-point-of-sale-business-solutions-ribbon-cutting-08-25-2016-2432
END:VEVENT

END:VCALENDAR
