BEGIN:VCALENDAR
VERSION:2.0
PRODID:-//ChamberMaster//Event Calendar 2.0//EN
METHOD:PUBLISH
X-PUBLISHED-TTL:P3D
REFRESH-INTERVAL:P3D
CALSCALE:GREGORIAN
BEGIN:VEVENT
DTSTART:20170413T203000Z
DTEND:20170413T230000Z
X-MICROSOFT-CDO-ALLDAYEVENT:FALSE
SUMMARY:Studio 3P
DESCRIPTION:Join us to welcome Studio 3P to their new location!\n\nRibbon cutting at 5:00 p.m.
X-ALT-DESC;FMTTYPE=text/html:Join us to welcome Studio 3P to their new location!<br />\nRibbon cutting at 5:00 p.m.<br />\n&nbsp\;
LOCATION:5 Thames Valley Road Irmo\, SC 29063
UID:e.1333.2536
SEQUENCE:3
DTSTAMP:20260424T154843Z
URL:https://business.greaterirmochamber.com/events/details/studio-3p-2536
END:VEVENT

END:VCALENDAR
