BEGIN:VCALENDAR
VERSION:2.0
PRODID:-//ChamberMaster//Event Calendar 2.0//EN
METHOD:PUBLISH
X-PUBLISHED-TTL:P3D
REFRESH-INTERVAL:P3D
CALSCALE:GREGORIAN
BEGIN:VEVENT
DTSTART:20170916T150000Z
DTEND:20170916T190000Z
X-MICROSOFT-CDO-ALLDAYEVENT:FALSE
SUMMARY:Studio G Aesthetics Grand Opening
DESCRIPTION:Grand Opening for Studio G Aesthetics!\n\nJoin them for Hors d'oeuvres\, beverages and wine.\n\nChair massages\, drawings\, etc.
X-ALT-DESC;FMTTYPE=text/html:Grand Opening for Studio G Aesthetics!<br />\nJoin them for Hors d&#39\;oeuvres\, beverages and wine.<br />\nChair massages\, drawings\, etc.
LOCATION:7453 Irmo Drive\, Suite C Columbia\, SC 29212
UID:e.1333.2901
SEQUENCE:3
DTSTAMP:20260424T082137Z
URL:https://business.greaterirmochamber.com/events/details/studio-g-aesthetics-grand-opening-2901
END:VEVENT

END:VCALENDAR
