BEGIN:VCALENDAR
VERSION:2.0
PRODID:-//ChamberMaster//Event Calendar 2.0//EN
METHOD:PUBLISH
X-PUBLISHED-TTL:P3D
REFRESH-INTERVAL:P3D
CALSCALE:GREGORIAN
BEGIN:VEVENT
DTSTART:20170407T153000Z
DTEND:20170407T163000Z
X-MICROSOFT-CDO-ALLDAYEVENT:FALSE
SUMMARY:Supercuts Grand Opening and Ribbon Cutting
DESCRIPTION:Join us to welcome Supercuts to our chamber!\n\nLight lunch provided.\n\nRibbon cutting at 11:45 a.m.
X-ALT-DESC;FMTTYPE=text/html:Join us to welcome Supercuts to our chamber!<br />\nLight lunch provided.<br />\nRibbon cutting at 11:45 a.m.
LOCATION:7467 St. Andrews Road Irmo\, SC
UID:e.1333.2535
SEQUENCE:3
DTSTAMP:20260424T155241Z
URL:https://business.greaterirmochamber.com/events/details/supercuts-grand-opening-and-ribbon-cutting-2535
END:VEVENT

END:VCALENDAR
