BEGIN:VCALENDAR
VERSION:2.0
PRODID:-//ChamberMaster//Event Calendar 2.0//EN
METHOD:PUBLISH
X-PUBLISHED-TTL:P3D
REFRESH-INTERVAL:P3D
CALSCALE:GREGORIAN
BEGIN:VEVENT
DTSTART:20170630T153000Z
DTEND:20170630T163000Z
X-MICROSOFT-CDO-ALLDAYEVENT:FALSE
SUMMARY:Sweetgrass Home Staging\, LLC Ribbon Cutting
DESCRIPTION:Join us to welcome Kimber Braswell and Sweetgrass Home Staging\, LLC to our Chamber!!!\n\nLight Lunch Provided
X-ALT-DESC;FMTTYPE=text/html:Join us to welcome Kimber Braswell and&nbsp\;Sweetgrass Home Staging\, LLC to our Chamber!!!<br />\nLight Lunch Provided
LOCATION:1235 Columbia Avenue Irmo\, SC 29063 (Irmo Chamber Office)
UID:e.1333.2795
SEQUENCE:3
DTSTAMP:20260424T142809Z
URL:https://business.greaterirmochamber.com/events/details/sweetgrass-home-staging-llc-ribbon-cutting-2795
END:VEVENT

END:VCALENDAR
