BEGIN:VCALENDAR
VERSION:2.0
PRODID:-//ChamberMaster//Event Calendar 2.0//EN
METHOD:PUBLISH
X-PUBLISHED-TTL:P3D
REFRESH-INTERVAL:P3D
CALSCALE:GREGORIAN
BEGIN:VEVENT
DTSTART:20170208T003000Z
DTEND:20170208T030000Z
X-MICROSOFT-CDO-ALLDAYEVENT:FALSE
SUMMARY:Tabitha Epperson: Home
DESCRIPTION:What makes a house a “home”? Is it the location? The people? The mementos on the walls? What part of “home” is permanent\, and what can be washed away? MTC faculty member Tabitha Epperson’s research into the definition of home began after her own Louisiana community sustained the ravage of Hurricane Katrina and was revived after her adopted home of Columbia withstood the waters of last year’s floods. In this remarkable talk\, she’ll share survivors’ insights into what remains when the structure of “home” is gone.
X-ALT-DESC;FMTTYPE=text/html:What makes a house a “home”? Is it the location? The people? The mementos on the walls? What part of “home” is permanent\, and what can be washed away? MTC faculty member Tabitha Epperson’s research into the definition of home began after her own Louisiana community sustained the ravage of Hurricane Katrina and was revived after her adopted home of Columbia withstood the waters of last year’s floods. In this remarkable talk\, she’ll share survivors’ insights into what remains when the structure of “home” is gone.\n
LOCATION:Harbison Theatre at Midlands Technical College 7300 College Street Irmo\, SC 29063 803-407-5011
UID:e.1333.2452
SEQUENCE:3
DTSTAMP:20260424T195411Z
URL:https://business.greaterirmochamber.com/events/details/tabitha-epperson-home-02-07-2017-2452
END:VEVENT

END:VCALENDAR
