BEGIN:VCALENDAR
VERSION:2.0
PRODID:-//ChamberMaster//Event Calendar 2.0//EN
METHOD:PUBLISH
X-PUBLISHED-TTL:P3D
REFRESH-INTERVAL:P3D
CALSCALE:GREGORIAN
BEGIN:VEVENT
DTSTART:20180128T003000Z
DTEND:20180128T033000Z
X-MICROSOFT-CDO-ALLDAYEVENT:FALSE
SUMMARY:Take Me To The River LIVE
DESCRIPTION:Inspired by the award-winning documentary of the same name\, Take Me to the River LIVE features a once-in-a-lifetime chance to see GRAMMY winners and music legends William Bell\, Bobby Rush\, and Don Bryant share the stage and perform classics celebrating the soul and sound of Memphis in the 1960s and '70s. Backed by the Hi-Rhythm Section (27 Gold and Platinum records\, including all of Al Green's classics)\, and the Stax Academy Alumni Horns\, these titans of rhythm and blues share both the history and hope of a city's musical legacy.
X-ALT-DESC;FMTTYPE=text/html:Inspired by the award-winning documentary of the same name\, Take Me to the River LIVE features a once-in-a-lifetime chance to see GRAMMY winners and music legends William Bell\, Bobby Rush\, and Don Bryant share the stage and perform classics celebrating the soul and sound of Memphis in the 1960s and &#39\;70s. Backed by the Hi-Rhythm Section (27 Gold and Platinum records\, including all of Al Green&rsquo\;s classics)\, and the Stax Academy Alumni Horns\, these titans of rhythm and blues share both the history and hope of a city&rsquo\;s musical legacy.
LOCATION:Harbison Theatre at Midlands Technical College - 7300 College Street\, Irmo\, SC 29063
UID:e.1333.2786
SEQUENCE:3
DTSTAMP:20260424T020442Z
URL:https://business.greaterirmochamber.com/events/details/take-me-to-the-river-live-2786
END:VEVENT

END:VCALENDAR
