BEGIN:VCALENDAR
VERSION:2.0
PRODID:-//ChamberMaster//Event Calendar 2.0//EN
METHOD:PUBLISH
X-PUBLISHED-TTL:P3D
REFRESH-INTERVAL:P3D
CALSCALE:GREGORIAN
BEGIN:VEVENT
DTSTART:20161114T230000Z
DTEND:20161115T003000Z
X-MICROSOFT-CDO-ALLDAYEVENT:FALSE
SUMMARY:Taxpayer Education
DESCRIPTION:Enjoy Coffee & Conversation with guest speaker Paul Brawley\, Richland County Auditor.  Topics of Discussion: Standard Deductions\, Itemized Deductions\, EIC\, Audits and the Strickland Bailey Act.\n\n\n\nBrought to you by Javis Tax & Kings and Queens Barber and Beauty\n\n\n\nFree childcare provided.
X-ALT-DESC;FMTTYPE=text/html:Enjoy Coffee &amp\; Conversation with guest speaker Paul Brawley\, Richland County Auditor. &nbsp\;Topics of Discussion: Standard Deductions\, Itemized Deductions\, EIC\, Audits and the Strickland Bailey Act.<br />\n<br />\nBrought to you by Javis Tax &amp\; Kings and Queens Barber and Beauty<br />\n<br />\nFree childcare provided.
LOCATION:Word of God Church 119 Diamond Lane Columbia\, SC 29210 (803) 851- 7112
UID:e.1333.2500
SEQUENCE:3
DTSTAMP:20260424T225850Z
URL:https://business.greaterirmochamber.com/events/details/taxpayer-education-2500
END:VEVENT

END:VCALENDAR
