BEGIN:VCALENDAR
VERSION:2.0
PRODID:-//ChamberMaster//Event Calendar 2.0//EN
METHOD:PUBLISH
X-PUBLISHED-TTL:P3D
REFRESH-INTERVAL:P3D
CALSCALE:GREGORIAN
BEGIN:VEVENT
DTSTART:20180927T113000Z
DTEND:20180927T130000Z
X-MICROSOFT-CDO-ALLDAYEVENT:FALSE
SUMMARY:The 13th Annual Irmo Community Prayer Breakfast
DESCRIPTION:Representative Chip Huggins and Representative Nathan Ballentine invite you to join your friends and neighbors at the 13th Annual Irmo Community Prayer Breakfast.  This year\, we will welcome Jose Alvarez as our keynote speaker.  Special thanks to Steve Arnold at Chick-Fil-A in Ballentine for sponsoring this event!
X-ALT-DESC;FMTTYPE=text/html:<strong>Representative Chip Huggins</strong> and <strong>Representative Nathan Ballentine</strong> invite you to join your friends and neighbors at the <strong>13th Annual Irmo Community Prayer Breakfast</strong>. &nbsp\;This year\, we will welcome <strong>Jose Alvarez</strong> as our keynote speaker. &nbsp\;Special thanks to <strong>Steve Arnold</strong> at <strong>Chick-Fil-A in Ballentine</strong> for sponsoring this event!
LOCATION:Riverland Hills Baptist Church 201 Lake Murray Blvd. Irmo\, SC 29063
UID:e.1333.3258
SEQUENCE:3
DTSTAMP:20260423T145756Z
URL:https://business.greaterirmochamber.com/events/details/the-13th-annual-irmo-community-prayer-breakfast-3258
END:VEVENT

END:VCALENDAR
