BEGIN:VCALENDAR
VERSION:2.0
PRODID:-//ChamberMaster//Event Calendar 2.0//EN
METHOD:PUBLISH
X-PUBLISHED-TTL:P3D
REFRESH-INTERVAL:P3D
CALSCALE:GREGORIAN
BEGIN:VEVENT
DTSTART:20191206T233000Z
DTEND:20191209T020000Z
X-MICROSOFT-CDO-ALLDAYEVENT:FALSE
SUMMARY:The 26th Annual "The Living Christmas Story"
DESCRIPTION:Plan now to begin your Christmas celebrations by visiting Union United Methodist Church's annual drive-through nativity\, "The Living Christmas Story". This free pageant will be held Friday through Sunday\, December 6 - 8\, 2019\, from 6:30 to 9:00 pm each night. Live animals\, 200 cast members\, authentic costumes\, and handcrafted scenery make this a memorable Christmas experience for all ages. From the comfort of a vehicle\, experience the sights and sounds of life as it might have been in the town of Bethlehem over 2000 years ago\, including the synagogue\, the market\, the village well\, and people searching for a room while Roman soldiers stand guard. You will ride through 18 traditional scenes from the Bible such as Gabriel's visit to Mary\, the angels' message to the shepherds\, the Wise Men's visit with King Herod\, and the stable where the Christ child was born. Visitors in cars and other vehicles are directed down the road to "Bethlehem" after turning onto the church grounds. Church vans and institutional vehicles are given priority in line and should park in the lot on St. Andrews Road across from the church to be directed to the entrance to the church grounds. Visitors to "Bethlehem" can also choose to park their vehicle across the street from the church near the shopping center sign and ride one of the church vans which will make regular trips through "The Living Christmas Story" before bringing passengers back to their cars. Over the past 25 years\, more than 145\,000 people have attended and enjoyed "The Living Christmas Story" at Union United Methodist Church in Irmo. This is a gift to the community\, with no admission charge.
X-ALT-DESC;FMTTYPE=text/html:Plan now to begin your Christmas celebrations by visiting Union United Methodist Church&rsquo\;s annual drive-through nativity\, &ldquo\;The Living Christmas Story&rdquo\;. This free pageant will be held Friday through Sunday\, December 6 - 8\, 2019\, from 6:30 to 9:00 pm each night. Live animals\, 200 cast members\, authentic costumes\, and handcrafted scenery make this a memorable Christmas experience for all ages. From the comfort of a vehicle\, experience the sights and sounds of life as it might have been in the town of Bethlehem over 2000 years ago\, including the synagogue\, the market\, the village well\, and people searching for a room while Roman soldiers stand guard. You will ride through 18 traditional scenes from the Bible such as Gabriel&rsquo\;s visit to Mary\, the angels&rsquo\; message to the shepherds\, the Wise Men&rsquo\;s visit with King Herod\, and the stable where the Christ child was born. Visitors in cars and other vehicles are directed down the road to &ldquo\;Bethlehem&rdquo\; after turning onto the church grounds. Church vans and institutional vehicles are given priority in line and should park in the lot on St. Andrews Road across from the church to be directed to the entrance to the church grounds. Visitors to &ldquo\;Bethlehem&rdquo\; can also choose to park their vehicle across the street from the church near the shopping center sign and ride one of the church vans which will make regular trips through &ldquo\;The Living Christmas Story&rdquo\; before bringing passengers back to their cars. Over the past 25 years\, more than 145\,000 people have attended and enjoyed &ldquo\;The Living Christmas Story&rdquo\; at Union United Methodist Church in Irmo. This is a gift to the community\, with no admission charge.
LOCATION:Union United Methodist Church 7582 Woodrow Street Irmo\, SC 29063
UID:e.1333.3397
SEQUENCE:3
DTSTAMP:20260422T144713Z
URL:https://business.greaterirmochamber.com/events/details/the-26th-annual-the-living-christmas-story-3397
END:VEVENT

END:VCALENDAR
