BEGIN:VCALENDAR
VERSION:2.0
PRODID:-//ChamberMaster//Event Calendar 2.0//EN
METHOD:PUBLISH
X-PUBLISHED-TTL:P3D
REFRESH-INTERVAL:P3D
CALSCALE:GREGORIAN
BEGIN:VEVENT
DTSTART:20180413T230000Z
DTEND:20180414T013000Z
X-MICROSOFT-CDO-ALLDAYEVENT:FALSE
SUMMARY:The Addams Family
DESCRIPTION:Dutch Fork High School presents The Addams Family\, a musical comedy based on characters created by Charles Addams\, with music and lyrics by Andrew Lippa and book by Marshall Brickman and Rick Elice. The Addams Family will run in Dutch Fork High School's Auditorium on April 13 and 14 at 7 p.m.\, with matinees on April 14 at 2 p.m. and April 15 at 3 p.m. Dutch Fork High School is located at 1400 Old Tamah Road in Irmo\, SC. The show is rated PG. Tickets can be purchased at the door or at dfhs.booktix.com
X-ALT-DESC;FMTTYPE=text/html:Dutch Fork High School presents The Addams Family\, a musical comedy based on characters created by Charles Addams\, with music and lyrics by Andrew Lippa and book by Marshall Brickman and Rick Elice. The Addams Family will run in Dutch Fork High School&rsquo\;s Auditorium on April 13 and 14 at 7 p.m.\, with matinees on April 14 at 2 p.m. and April 15 at 3 p.m. Dutch Fork High School is located at 1400 Old Tamah Road in Irmo\, SC. The show is rated PG. Tickets can be purchased at the door or at dfhs.booktix.com
LOCATION:Dutch Fork High School Auditorium 1400 Old Tamah Road Irmo\, SC
UID:e.1333.2993
SEQUENCE:3
DTSTAMP:20260423T230121Z
URL:https://business.greaterirmochamber.com/events/details/the-addams-family-2993
END:VEVENT

END:VCALENDAR
