BEGIN:VCALENDAR
VERSION:2.0
PRODID:-//ChamberMaster//Event Calendar 2.0//EN
METHOD:PUBLISH
X-PUBLISHED-TTL:P3D
REFRESH-INTERVAL:P3D
CALSCALE:GREGORIAN
BEGIN:VEVENT
DTSTART:20251203T003000Z
DTEND:20251203T014500Z
X-MICROSOFT-CDO-ALLDAYEVENT:FALSE
SUMMARY:The Aiken Concert band presents "Season of Joy"
DESCRIPTION:The Aiken Concert Band is presenting a program of music celebrating the Holiday season. Traditional carols along with new arrangements of old favorites - including "O Holy Night\," "I'll be Home for Christmas\," and music from "How the Grinch Stole Christmas" - will ring in the season in style. Come celebrate this season of Joy with the Aiken Concert Band.\n\n\n\nThe band will be joined for this concert by special guest conductor\, Brian Toney\, long-time Director of Bands at Greenbrier High School in Evans\, Georgia.
X-ALT-DESC;FMTTYPE=text/html:<span style="font-size:16px\;"><span style="font-family:verdana\;">The Aiken Concert Band is presenting a program of music celebrating the Holiday season. Traditional carols along with new arrangements of old favorites - including &quot\;O Holy Night\,&quot\; &quot\;I&#39\;ll be Home for Christmas\,&quot\; and music from &quot\;How the Grinch Stole Christmas&quot\; - will ring in the season in style. Come celebrate this season of Joy with the Aiken Concert Band.<br />\n<br />\nThe band will be joined for this concert by special guest conductor\, Brian Toney\, long-time Director of Bands at Greenbrier High School in Evans\, Georgia.</span></span>
LOCATION:The Etherredge Center\, 471 University Pkwy\, Aiken\, SC 29801
UID:e.1333.6238
SEQUENCE:3
DTSTAMP:20260422T161500Z
URL:https://business.greaterirmochamber.com/events/details/the-aiken-concert-band-presents-season-of-joy-6238
END:VEVENT

END:VCALENDAR
