BEGIN:VCALENDAR
VERSION:2.0
PRODID:-//ChamberMaster//Event Calendar 2.0//EN
METHOD:PUBLISH
X-PUBLISHED-TTL:P3D
REFRESH-INTERVAL:P3D
CALSCALE:GREGORIAN
BEGIN:VEVENT
DTSTART;VALUE=DATE:20190920
DTEND;VALUE=DATE:20190923
TRANSP:TRANSPARENT
X-MICROSOFT-CDO-ALLDAYEVENT:TRUE
SUMMARY:The Art of Living Workshop
DESCRIPTION:The Happiness Program:\n\n\n\nA weekend that offers you the chance to restart and refresh for the entire year.  In this program you'll learn concrete\, time-tested and research-backed techniques to\n\n	Boost Your Energy\n	Fuel Your Productivity\n	Feel More Calm & At Ease\n\nFeaturing a special guest appearance online with peacemaker\, meditation expert and humanitarian\, Gurudev Sri Sri Ravi Shanker.
X-ALT-DESC;FMTTYPE=text/html:The Happiness Program:<br />\n<br />\nA weekend that offers you the chance to restart and refresh for the entire year. &nbsp\;In this program you&#39\;ll learn concrete\, time-tested and research-backed techniques to\n<ul>\n	<li>Boost Your Energy</li>\n	<li>Fuel Your Productivity</li>\n	<li>Feel More Calm &amp\; At Ease</li>\n</ul>\nFeaturing a special guest appearance online with peacemaker\, meditation expert and humanitarian\, Gurudev Sri Sri Ravi Shanker.
LOCATION:182 Laurelhurst Ave. Columbia\, Sc 29210
UID:e.1333.3371
SEQUENCE:3
DTSTAMP:20260422T202203Z
URL:https://business.greaterirmochamber.com/events/details/the-art-of-living-workshop-3371
END:VEVENT

END:VCALENDAR
