BEGIN:VCALENDAR
VERSION:2.0
PRODID:-//ChamberMaster//Event Calendar 2.0//EN
METHOD:PUBLISH
X-PUBLISHED-TTL:P3D
REFRESH-INTERVAL:P3D
CALSCALE:GREGORIAN
BEGIN:VEVENT
DTSTART:20180311T003000Z
DTEND:20180311T033000Z
X-MICROSOFT-CDO-ALLDAYEVENT:FALSE
SUMMARY:The BreakWomb
DESCRIPTION:Based in Los Angeles\, the mommas of The BreakWomb are veterans of Arrested Development\, The Office\, Parks and Recreation\, Bridesmaids\, This is 40\, and\, of course\, hundreds of nights spent walking the floor and changing diapers. Their weekly YouTube videos have entertained more than two million viewers\, and now they are taking their live show\, full of parental comedy and audience-inspired improv\, on the road!
X-ALT-DESC;FMTTYPE=text/html:Based in Los Angeles\, the mommas of The BreakWomb are veterans of Arrested Development\, The Office\, Parks and Recreation\, Bridesmaids\, This is 40\, and\, of course\, hundreds of nights spent walking the floor and changing diapers. Their weekly YouTube videos have entertained more than two million viewers\, and now they are taking their live show\, full of parental comedy and audience-inspired improv\, on the road!
LOCATION:Harbison Theatre at Midlands Technical College 7300 College Street\, Irmo\, SC 29063
UID:e.1333.2791
SEQUENCE:3
DTSTAMP:20260424T003611Z
URL:https://business.greaterirmochamber.com/events/details/the-breakwomb-2791
END:VEVENT

END:VCALENDAR
