BEGIN:VCALENDAR
VERSION:2.0
PRODID:-//ChamberMaster//Event Calendar 2.0//EN
METHOD:PUBLISH
X-PUBLISHED-TTL:P3D
REFRESH-INTERVAL:P3D
CALSCALE:GREGORIAN
BEGIN:VEVENT
DTSTART:20190407T160000Z
DTEND:20190407T160000Z
X-MICROSOFT-CDO-ALLDAYEVENT:FALSE
SUMMARY:The Composer is Dead by Lemony Snicket : Featuring the S.C. Philharmonic
DESCRIPTION:There's a mystery to be solved in the orchestra: the composer is dead\, and the suspect is still at large! It is a whodunit about the orchestra\; help the S.C. Philharmonic solve the mystery!
X-ALT-DESC;FMTTYPE=text/html:There&rsquo\;s a mystery to be solved in the orchestra: the composer is dead\, and the suspect is still at large! It is a whodunit about the orchestra\; help the S.C. Philharmonic solve the mystery!
LOCATION:Harbison Theatre at Midlands Technical College 7300 College Street Irmo\, SC 29063
UID:e.1333.3244
SEQUENCE:3
DTSTAMP:20260423T022154Z
URL:https://business.greaterirmochamber.com/events/details/the-composer-is-dead-by-lemony-snicket-featuring-the-s-c-philharmonic-3244
END:VEVENT

END:VCALENDAR
