BEGIN:VCALENDAR
VERSION:2.0
PRODID:-//ChamberMaster//Event Calendar 2.0//EN
METHOD:PUBLISH
X-PUBLISHED-TTL:P3D
REFRESH-INTERVAL:P3D
CALSCALE:GREGORIAN
BEGIN:VEVENT
DTSTART:20190319T160000Z
DTEND:20190319T160000Z
X-MICROSOFT-CDO-ALLDAYEVENT:FALSE
SUMMARY:The Curious Incident of the Dog in the Night-Time National Theatre Live ON SCREEN
DESCRIPTION:A boy's detective work takes him on a journey that upturns his world on the quest to find the truth.
X-ALT-DESC;FMTTYPE=text/html:A boy&rsquo\;s detective work takes him on a journey that upturns his world on the quest to find the truth.
LOCATION:Harbison Theatre at Midlands Technical College 7300 College Street Irmo\, SC 29063
UID:e.1333.3241
SEQUENCE:3
DTSTAMP:20260423T040459Z
URL:https://business.greaterirmochamber.com/events/details/the-curious-incident-of-the-dog-in-the-night-time-national-theatre-live-on-screen-3241
END:VEVENT

END:VCALENDAR
