BEGIN:VCALENDAR
VERSION:2.0
PRODID:-//ChamberMaster//Event Calendar 2.0//EN
METHOD:PUBLISH
X-PUBLISHED-TTL:P3D
REFRESH-INTERVAL:P3D
CALSCALE:GREGORIAN
BEGIN:VEVENT
DTSTART:20190118T170000Z
DTEND:20190118T170000Z
X-MICROSOFT-CDO-ALLDAYEVENT:FALSE
SUMMARY:The Dick Goodwin Big Band
DESCRIPTION:Featuring world-class composer\, producer\, and musician Dick Goodwin\, the performance will also include his big band.
X-ALT-DESC;FMTTYPE=text/html:Featuring world-class composer\, producer\, and musician Dick Goodwin\, the performance will also include his big band.
LOCATION:Harbison Theatre at Midlands Technical College 7300 College Street Irmo\, SC 29063
UID:e.1333.3235
SEQUENCE:3
DTSTAMP:20260423T071848Z
URL:https://business.greaterirmochamber.com/events/details/the-dick-goodwin-big-band-3235
END:VEVENT

END:VCALENDAR
