BEGIN:VCALENDAR
VERSION:2.0
PRODID:-//ChamberMaster//Event Calendar 2.0//EN
METHOD:PUBLISH
X-PUBLISHED-TTL:P3D
REFRESH-INTERVAL:P3D
CALSCALE:GREGORIAN
BEGIN:VEVENT
DTSTART:20180427T210000Z
DTEND:20180427T210000Z
X-MICROSOFT-CDO-ALLDAYEVENT:FALSE
SUMMARY:The Grand Openings of Ballentine
DESCRIPTION:Please join us in welcoming Dutch Fork Insurance Group to our Chamber and celebrating the grand opening of the new building for Loveless & Yarborough Real Estate.
X-ALT-DESC;FMTTYPE=text/html:<span style="caret-color: rgb(75\, 79\, 86)\; color: rgb(75\, 79\, 86)\; font-family: system-ui\, -apple-system\, BlinkMacSystemFont\, &quot\;.SFNSText-Regular&quot\;\, sans-serif\; font-size: 14px\; background-color: rgb(255\, 255\, 255)\;">Please join us in welcoming Dutch Fork Insurance Group to our Chamber and celebrating the grand opening of the new building for&nbsp\;Loveless &amp\; Yarborough Real Estate. &nbsp\;</span>
LOCATION:1610 Dutch Fork Rd. Irmo\, SC 29063
UID:e.1333.2997
SEQUENCE:3
DTSTAMP:20260423T211320Z
URL:https://business.greaterirmochamber.com/events/details/the-grand-openings-of-ballentine-2997
END:VEVENT

END:VCALENDAR
