BEGIN:VCALENDAR
VERSION:2.0
PRODID:-//ChamberMaster//Event Calendar 2.0//EN
METHOD:PUBLISH
X-PUBLISHED-TTL:P3D
REFRESH-INTERVAL:P3D
CALSCALE:GREGORIAN
BEGIN:VEVENT
DTSTART:20181216T000000Z
DTEND:20181216T010000Z
X-MICROSOFT-CDO-ALLDAYEVENT:FALSE
SUMMARY:The Offering
DESCRIPTION:Come worship at Riverland Hills this Christmas season\, December 15 & 16 at 7PM! The Offering is a night of modern worship celebrating the birth of our Savior. Free admission (NO tickets required.)
X-ALT-DESC;FMTTYPE=text/html:Come worship at Riverland Hills this Christmas season\, December 15 &amp\; 16 at 7PM! The Offering is a night of modern worship celebrating the birth of our Savior. Free admission (NO tickets required.)
LOCATION:Riverland Hills Baptist Church
UID:e.1333.3289
SEQUENCE:3
DTSTAMP:20260423T084732Z
URL:https://business.greaterirmochamber.com/events/details/the-offering-3289
END:VEVENT

END:VCALENDAR
