BEGIN:VCALENDAR
VERSION:2.0
PRODID:-//ChamberMaster//Event Calendar 2.0//EN
METHOD:PUBLISH
X-PUBLISHED-TTL:P3D
REFRESH-INTERVAL:P3D
CALSCALE:GREGORIAN
BEGIN:VEVENT
DTSTART:20160923T233000Z
DTEND:20160924T020000Z
X-MICROSOFT-CDO-ALLDAYEVENT:FALSE
SUMMARY:The Second City Hits Home
DESCRIPTION:A sold-out hit in 2013\, Chicago’s legendary sketch and improv comedy theatre returns with “The Second City Hits Home\,” a new show featuring hilarious sketches\, songs and improvisation about Columbia\, South Carolina – with a few of the company’s favorite sketches thrown in for good measure! A long-time training ground for powerhouses of American comedy (think Belushi\, Radner\, Fey\, Poehler\, and Colbert)\, we just might meet a future late-night superstar.
X-ALT-DESC;FMTTYPE=text/html:A sold-out hit in 2013\, Chicago’s legendary sketch and improv comedy theatre returns with “The Second City Hits Home\,” a new show featuring hilarious sketches\, songs and improvisation about Columbia\, South Carolina – with a few of the company’s favorite sketches thrown in for good measure! A long-time training ground for powerhouses of American comedy (think Belushi\, Radner\, Fey\, Poehler\, and Colbert)\, we just might meet a future late-night superstar. \n
LOCATION:Harbison Theatre at Midlands Technical College 7300 College Street Irmo\, SC 29063 803-407-5011
UID:e.1333.2439
SEQUENCE:3
DTSTAMP:20260425T020355Z
URL:https://business.greaterirmochamber.com/events/details/the-second-city-hits-home-09-23-2016-2439
END:VEVENT

END:VCALENDAR
