BEGIN:VCALENDAR
VERSION:2.0
PRODID:-//ChamberMaster//Event Calendar 2.0//EN
METHOD:PUBLISH
X-PUBLISHED-TTL:P3D
REFRESH-INTERVAL:P3D
CALSCALE:GREGORIAN
BEGIN:VEVENT
DTSTART:20181108T170000Z
DTEND:20181108T170000Z
X-MICROSOFT-CDO-ALLDAYEVENT:FALSE
SUMMARY:The Soul Rebels with Tonya Boyd-Cannon
DESCRIPTION:On tour for the first time\, The Soul Rebels (eight-piece brass band) and Tonya Boyd-Cannon (2015 finalist on NBC's The Voice) honor the legacy of their musical heritage and highlight the modern vibrancy of New Orleans music and culture as it exists today.
X-ALT-DESC;FMTTYPE=text/html:On tour for the first time\, The Soul Rebels (eight-piece brass band) and Tonya Boyd-Cannon (2015 finalist on NBC&#39\;s The Voice) honor the legacy of their musical heritage and highlight the modern vibrancy of New Orleans music and culture as it exists today.
LOCATION:Harbison Theatre at Midlands Technical College 7300 College Street Irmo\, SC 29063
UID:e.1333.3232
SEQUENCE:3
DTSTAMP:20260423T104144Z
URL:https://business.greaterirmochamber.com/events/details/the-soul-rebels-with-tonya-boyd-cannon-3232
END:VEVENT

END:VCALENDAR
