BEGIN:VCALENDAR
VERSION:2.0
PRODID:-//ChamberMaster//Event Calendar 2.0//EN
METHOD:PUBLISH
X-PUBLISHED-TTL:P3D
REFRESH-INTERVAL:P3D
CALSCALE:GREGORIAN
BEGIN:VEVENT
DTSTART:20161202T003000Z
DTEND:20161202T030000Z
X-MICROSOFT-CDO-ALLDAYEVENT:FALSE
SUMMARY:The Texas Tenors - SOLD OUT
DESCRIPTION:Back by incredible audience demand after their sold-out 2014 performance\, The Texas Tenors will set our holiday tone with Christmas classics and modern frosty favorites. Join Marcus\, John\, and JC for Deep in the Heart of Christmas\, a charming concert that will warm your heart as the weather cools down.
X-ALT-DESC;FMTTYPE=text/html:Back by incredible audience demand after their sold-out 2014 performance\, The Texas Tenors will set our holiday tone with Christmas classics and modern frosty favorites. Join Marcus\, John\, and JC for Deep in the Heart of Christmas\, a charming concert that will warm your heart as the weather cools down. \n
LOCATION:Harbison Theatre at Midlands Technical College 7300 College Street Irmo\, SC 29063 803-407-5011
UID:e.1333.2446
SEQUENCE:3
DTSTAMP:20260424T212643Z
URL:https://business.greaterirmochamber.com/events/details/the-texas-tenors-sold-out-12-01-2016-2446
END:VEVENT

END:VCALENDAR
