BEGIN:VCALENDAR
VERSION:2.0
PRODID:-//ChamberMaster//Event Calendar 2.0//EN
METHOD:PUBLISH
X-PUBLISHED-TTL:P3D
REFRESH-INTERVAL:P3D
CALSCALE:GREGORIAN
BEGIN:VEVENT
DTSTART:20190404T160000Z
DTEND:20190404T160000Z
X-MICROSOFT-CDO-ALLDAYEVENT:FALSE
SUMMARY:The World of Musicals : Broadway Review
DESCRIPTION:The World of Musicals brings the very best of musical theatre to life. Get ready to sing along to all your favorite and beloved musicals in one unforgettable evening.
X-ALT-DESC;FMTTYPE=text/html:The World of Musicals brings the very best of musical theatre to life. Get ready to sing along to all your favorite and beloved musicals in one unforgettable evening.
LOCATION:Harbison Theatre at Midlands Technical College 7300 College Street Irmo\, SC 29063
UID:e.1333.3243
SEQUENCE:3
DTSTAMP:20260423T023444Z
URL:https://business.greaterirmochamber.com/events/details/the-world-of-musicals-broadway-review-3243
END:VEVENT

END:VCALENDAR
