BEGIN:VCALENDAR
VERSION:2.0
PRODID:-//ChamberMaster//Event Calendar 2.0//EN
METHOD:PUBLISH
X-PUBLISHED-TTL:P3D
REFRESH-INTERVAL:P3D
CALSCALE:GREGORIAN
BEGIN:VEVENT
DTSTART:20230428T233000Z
DTEND:20230429T010000Z
X-MICROSOFT-CDO-ALLDAYEVENT:FALSE
SUMMARY:The World You Left Behind
DESCRIPTION:"Trusting people hasn't come easy for SC Top Radio Personality and single father Brian Green. He has finally accepted that the life he had planned will never come to pass. But after years of praying\, he gets a second chance at his dream  but does he still want it? Now Brian has to decide what's best for his 16 yr old daughter Diamond all while knowing that one bad decision can cost him everything and everyone."
X-ALT-DESC;FMTTYPE=text/html:<span style="font-size:16px\;"><span style="font-family:verdana\;">&quot\;Trusting people hasn&#39\;t come easy for SC Top Radio Personality and single father Brian Green. He has finally accepted that the life he had planned will never come to pass. But after years of praying\, he gets a second chance at his dream&hellip\; but does he still want it? Now Brian has to decide what&rsquo\;s best for his 16 yr old daughter Diamond all while knowing that one bad decision can cost him everything and everyone.&quot\;</span></span>
LOCATION:7300 College St\, Columbia SC 29063
UID:e.1333.5074
SEQUENCE:3
DTSTAMP:20260424T194443Z
URL:https://business.greaterirmochamber.com/events/details/the-world-you-left-behind-5074
END:VEVENT

END:VCALENDAR
