BEGIN:VCALENDAR
VERSION:2.0
PRODID:-//ChamberMaster//Event Calendar 2.0//EN
METHOD:PUBLISH
X-PUBLISHED-TTL:P3D
REFRESH-INTERVAL:P3D
CALSCALE:GREGORIAN
BEGIN:VEVENT
DTSTART:20191116T003000Z
DTEND:20191116T023000Z
X-MICROSOFT-CDO-ALLDAYEVENT:FALSE
SUMMARY:Thelma Houston – Motown Experience
DESCRIPTION:Featuring a salute to the Queen of Soul\, Aretha Franklin   this show is a non-stop medley of classic Motown songs that we all know and love. From Tokyo to Las Vegas to London and beyond\, Thelma Houston brings audiences to their feet with this dynamic\, energetic show. A Mississippi native\, Thelma started out in the 60s performing gospel music and then signed to Capitol Records where she had her first hit song\, "Baby Mine." With Motown Records\, Thelma claimed the top of the pop\, R&B\, and dance charts with her high-powered rendition of "Don't Leave Me This Way." That gold-record classic gave Thelma the distinction of being the first solo female artist at Motown to win the GRAMMY Award for "Best R&B Female Vocal Performance." Join us for an evening that is sure to ignite your soul!
X-ALT-DESC;FMTTYPE=text/html:Featuring a salute to the Queen of Soul\, Aretha Franklin &ndash\; this show is a non-stop medley of classic Motown songs that we all know and love. From Tokyo to Las Vegas to London and beyond\, Thelma Houston brings audiences to their feet with this dynamic\, energetic show. A Mississippi native\, Thelma started out in the 60s performing gospel music and then signed to Capitol Records where she had her first hit song\, &ldquo\;Baby Mine.&rdquo\; With Motown Records\, Thelma claimed the top of the pop\, R&amp\;B\, and dance charts with her high-powered rendition of &ldquo\;Don&rsquo\;t Leave Me This Way.&rdquo\; That gold-record classic gave Thelma the distinction of being the first solo female artist at Motown to win the GRAMMY Award for &ldquo\;Best R&amp\;B Female Vocal Performance.&rdquo\; Join us for an evening that is sure to ignite your soul!
LOCATION:Harbison Theatre at Midlands Technical College
UID:e.1333.3392
SEQUENCE:3
DTSTAMP:20260422T160932Z
URL:https://business.greaterirmochamber.com/events/details/thelma-houston-motown-experience-3392
END:VEVENT

END:VCALENDAR
