BEGIN:VCALENDAR
VERSION:2.0
PRODID:-//ChamberMaster//Event Calendar 2.0//EN
METHOD:PUBLISH
X-PUBLISHED-TTL:P3D
REFRESH-INTERVAL:P3D
CALSCALE:GREGORIAN
BEGIN:VEVENT
DTSTART:20200716T160000Z
DTEND:20200716T170000Z
X-MICROSOFT-CDO-ALLDAYEVENT:FALSE
SUMMARY:Thursday AMA with the Rev! July 16 and 23\, 12:00pm on Zoom
DESCRIPTION:Grab your lunch\, and join Pastor James to AMA: "Ask me anything!"  Do you have questions about the Christian Faith?  The big ones\, like: Is the Bible true?  What about God and the problem of suffering\, evil?  Do science and religion contradict each other?  What about (yikes!) religion and politics?  We'll meet on Zoom\, and finish by 12:45pm.
X-ALT-DESC;FMTTYPE=text/html:Grab your lunch\, and join Pastor James to AMA: &quot\;Ask me anything!&quot\;&nbsp\; Do you have questions about the Christian Faith?&nbsp\; The big ones\, like: Is the Bible true?&nbsp\; What about God and the problem of suffering\, evil?&nbsp\; Do science and religion contradict each other?&nbsp\; What about (yikes!) religion and politics?&nbsp\; We&#39\;ll meet on Zoom\, and finish by 12:45pm.&nbsp\;&nbsp\;
LOCATION:
UID:e.1333.3939
SEQUENCE:3
DTSTAMP:20260422T045922Z
URL:https://business.greaterirmochamber.com/events/details/thursday-ama-with-the-rev-july-16-and-23-12-00pm-on-zoom-3939
END:VEVENT

END:VCALENDAR
