BEGIN:VCALENDAR
VERSION:2.0
PRODID:-//ChamberMaster//Event Calendar 2.0//EN
METHOD:PUBLISH
X-PUBLISHED-TTL:P3D
REFRESH-INTERVAL:P3D
CALSCALE:GREGORIAN
BEGIN:VEVENT
DTSTART:20190221T233000Z
DTEND:20190310T020000Z
X-MICROSOFT-CDO-ALLDAYEVENT:FALSE
SUMMARY:Time After Time: Senior Prom
DESCRIPTION:FOOD\, MUSIC & DANCING! Everyone is invited to celebrate together with students\, seniors and families from our community. We'll honor important legacies of the past and the promise of the future with musicfrom both generations. And YES\, Leeza will be there! No date\, tuxedo or prom dress required!
X-ALT-DESC;FMTTYPE=text/html:FOOD\, MUSIC &amp\; DANCING! Everyone is invited to celebrate together with students\, seniors and families from our community. We&rsquo\;ll honor important legacies of the past and the promise of the future with musicfrom both generations. And YES\, Leeza will be there! No date\, tuxedo or prom dress required!
LOCATION:UUMC Family Life Center 7582 Woodrow Street\, Irmo
UID:e.1333.3303
SEQUENCE:3
DTSTAMP:20260423T053837Z
URL:https://business.greaterirmochamber.com/events/details/time-after-time-senior-prom-3303
END:VEVENT

END:VCALENDAR
