BEGIN:VCALENDAR
VERSION:2.0
PRODID:-//ChamberMaster//Event Calendar 2.0//EN
METHOD:PUBLISH
X-PUBLISHED-TTL:P3D
REFRESH-INTERVAL:P3D
CALSCALE:GREGORIAN
BEGIN:VEVENT
DTSTART:20170105T210000Z
DTEND:20170105T230000Z
X-MICROSOFT-CDO-ALLDAYEVENT:FALSE
SUMMARY:TOASTS\, CHEERS & GOOD FORTUNE!
DESCRIPTION:Try your luck with all your favorite casino-style games and enjoy cocktails and chef-prepared appetizers. Raise your glass with us and toast to good\n\nfortune in 2017! It is going to be a fun and festive evening you won't soon forget.\n\nWhile you are here\, be sure to take some time to explore our beautiful community\, check out our amazing amenities and experience the exceptional and engaging lifestyle our residents enjoy every day. We hope to see you there!\n\nThe first 5 to RSVP will receive a free gift! Call today! (803) 781-2243.
X-ALT-DESC;FMTTYPE=text/html:<p>&nbsp\;</p>\n\n<p>Try your luck with all your favorite casino-style games and enjoy cocktails and chef-prepared appetizers. Raise your glass with us and toast to good</p>\n\n<p>fortune in 2017! It is going to be a fun and festive evening you won&rsquo\;t soon forget.</p>\n\n<p>While you are here\, be sure to take some time to explore our beautiful community\, check out our amazing amenities and experience the exceptional and engaging lifestyle our residents enjoy every day. We hope to see you there!</p>\n\n<p>The first 5 to RSVP will receive a free gift! Call today! (803) 781-2243.</p>\n
LOCATION:HarborChase of Columbia Assisted Living & Memory Care 120 Fairforest Road Columbia\, SC 29212
UID:e.1333.2504
SEQUENCE:3
DTSTAMP:20260424T200020Z
URL:https://business.greaterirmochamber.com/events/details/toasts-cheers-good-fortune-2504
END:VEVENT

END:VCALENDAR
