BEGIN:VCALENDAR
VERSION:2.0
PRODID:-//ChamberMaster//Event Calendar 2.0//EN
METHOD:PUBLISH
X-PUBLISHED-TTL:P3D
REFRESH-INTERVAL:P3D
CALSCALE:GREGORIAN
BEGIN:VEVENT
DTSTART:20170311T003000Z
DTEND:20170311T030000Z
X-MICROSOFT-CDO-ALLDAYEVENT:FALSE
SUMMARY:Troker
DESCRIPTION:Where metal riffs merge with powerhouse funk drumming and DJ scratching\; where the horn lines pull from both American jazz and the mariachi tradition of Mexico – there the dynamic\, riotous celebration of Troker will lift you off your seat and onto your feet. Alumni of South by Southwest and the Glastonbury Festival\, Troker will electrify our stage as part of their first full U.S. tour.
X-ALT-DESC;FMTTYPE=text/html:Where metal riffs merge with powerhouse funk drumming and DJ scratching\; where the horn lines pull from both American jazz and the mariachi tradition of Mexico – there the dynamic\, riotous celebration of Troker will lift you off your seat and onto your feet. Alumni of South by Southwest and the Glastonbury Festival\, Troker will electrify our stage as part of their first full U.S. tour. \n
LOCATION:Harbison Theatre at Midlands Technical College 7300 College Street Irmo\, SC 29063 803-407-5011
UID:e.1333.2457
SEQUENCE:3
DTSTAMP:20260424T171305Z
URL:https://business.greaterirmochamber.com/events/details/troker-03-10-2017-2457
END:VEVENT

END:VCALENDAR
