BEGIN:VCALENDAR
VERSION:2.0
PRODID:-//ChamberMaster//Event Calendar 2.0//EN
METHOD:PUBLISH
X-PUBLISHED-TTL:P3D
REFRESH-INTERVAL:P3D
CALSCALE:GREGORIAN
BEGIN:VEVENT
DTSTART:20190402T210000Z
DTEND:20190402T230000Z
X-MICROSOFT-CDO-ALLDAYEVENT:FALSE
SUMMARY:Tune Up Tuesday
DESCRIPTION:Join our Small Business Alliance (SBA) for a networking happy hour event on Tuesday\, April 2 from 5 - 7 p.m. at the DoubleTree by Hilton. Here\, you'll have the chance to meet our SBA members and other local professionals and business owners to share ideas and sharpen your saw. \n\nSponsored by Doubletree by Hilton Hotel & Conference Center - Columbia\n\nComplimentary food and beverages.
X-ALT-DESC;FMTTYPE=text/html:<p>Join our&nbsp\;<a href="https://www.uway.org/sba" style="color: rgb(11\, 88\, 165)\; transition: color 0.2s ease 0s\;" target="_blank">Small Business Alliance</a>&nbsp\;(SBA) for a&nbsp\;networking happy hour&nbsp\;event on Tuesday\, April 2 from 5 - 7 p.m.&nbsp\;at the DoubleTree by Hilton. Here\, you&#39\;ll have the chance to meet our SBA members and other local professionals and business owners to share ideas and&nbsp\;sharpen your saw.&nbsp\;</p>\n\n<p>Sponsored by Doubletree by Hilton Hotel &amp\; Conference Center - Columbia</p>\n\n<p>Complimentary food and beverages.</p>\n
LOCATION:DoubleTree by Hilton 2100 Bush River Rd\, Columbia\, SC 29210
UID:e.1333.3313
SEQUENCE:3
DTSTAMP:20260423T034900Z
URL:https://business.greaterirmochamber.com/events/details/tune-up-tuesday-3313
END:VEVENT

END:VCALENDAR
