BEGIN:VCALENDAR
VERSION:2.0
PRODID:-//ChamberMaster//Event Calendar 2.0//EN
METHOD:PUBLISH
X-PUBLISHED-TTL:P3D
REFRESH-INTERVAL:P3D
CALSCALE:GREGORIAN
BEGIN:VEVENT
DTSTART:20170725T220000Z
DTEND:20170725T233000Z
X-MICROSOFT-CDO-ALLDAYEVENT:FALSE
SUMMARY:Understanding Today's Retirement Income Challenges
DESCRIPTION:Educational Workshop to understand the major challenges of retirement.\n\nShow how to create a plan to help address these challenges.\n\nGuest Speaker:  Meaghan DePalma\,  Vice President\, Prudential Annuities\n\nBring guests\, friends or neighbors who may be interested in this topic.
X-ALT-DESC;FMTTYPE=text/html:Educational Workshop to understand the major challenges of retirement.<br />\nShow how to create a plan to help address these challenges.<br />\nGuest Speaker: &nbsp\;Meaghan DePalma\, &nbsp\;Vice President\, Prudential Annuities<br />\n<em>Bring guests\, friends or neighbors who may be interested in this topic.</em><br />\n&nbsp\;
LOCATION:The Melting Pot\, 1410 Colonial Life Blvd\, Columbia\, SC 29210 Dinner is provided.
UID:e.1333.2825
SEQUENCE:3
DTSTAMP:20260424T112203Z
URL:https://business.greaterirmochamber.com/events/details/understanding-today-s-retirement-income-challenges-2825
END:VEVENT

END:VCALENDAR
