BEGIN:VCALENDAR
VERSION:2.0
PRODID:-//ChamberMaster//Event Calendar 2.0//EN
METHOD:PUBLISH
X-PUBLISHED-TTL:P3D
REFRESH-INTERVAL:P3D
CALSCALE:GREGORIAN
BEGIN:VEVENT
DTSTART:20180626T223000Z
DTEND:20180627T000000Z
X-MICROSOFT-CDO-ALLDAYEVENT:FALSE
SUMMARY:Understanding Today's Retirement Red Zone Challenges
DESCRIPTION:This workshop will help you:\n\n- Understand the major challenges in the Retirement Red Zone.\n\n- Discover potential solutions that can address these challenges\n\n-Consider a strategy that can help provide guaranteed retirement income with a variable annuity available\n\nfrom Prudentil companies.
X-ALT-DESC;FMTTYPE=text/html:This workshop will help you:<br />\n- Understand the major challenges in the Retirement Red Zone.<br />\n- Discover potential solutions that can address these challenges<br />\n-Consider a strategy that can help provide guaranteed retirement income with a variable annuity available<br />\nfrom Prudentil companies.
LOCATION:Longhorn Steakhouse\, 902 Gervais St\, Columbia\, SC 29201
UID:e.1333.3216
SEQUENCE:3
DTSTAMP:20260423T180237Z
URL:https://business.greaterirmochamber.com/events/details/understanding-today-s-retirement-red-zone-challenges-3216
END:VEVENT

END:VCALENDAR
