BEGIN:VCALENDAR
VERSION:2.0
PRODID:-//ChamberMaster//Event Calendar 2.0//EN
METHOD:PUBLISH
X-PUBLISHED-TTL:P3D
REFRESH-INTERVAL:P3D
CALSCALE:GREGORIAN
BEGIN:VEVENT
DTSTART:20190211T140000Z
DTEND:20190211T213000Z
X-MICROSOFT-CDO-ALLDAYEVENT:FALSE
SUMMARY:United Way's Small Business Alliance Driving Down Main Topgolf Swing Suite Tournament
DESCRIPTION:Gather a foursome for a 9-hole scramble tournament on the legendary Pebble Beach Golf Links (back 9). Tee times are slotted from 7:30 am - 4:30 pm and are first come\, first serve. Teams should expect to complete the round in under 90 minutes. Maximum of 30 teams. After play\, join us at 5pm for The 19th Hole Celebration back at Topgolf Swing Suite at The Venue on Main.\n\nWant to feel like a VIP? No problem! We have six tee times available for those who would like an upgraded experience in the VIP Swing Suite.\n\nPrice:\n\n$300 per foursome - includes 90-minutes of play\, food and beverage credit\, player gift and post round celebration\n\n$450/VIP foursome (6 Slots)    includes 90-minutes of play in the spacious luxury suite\, food and beverage credit\, exclusive T-shirt and VIP player gifts and post round celebration\n\nAdd-ons available at time of purchase.
X-ALT-DESC;FMTTYPE=text/html:<p>Gather a foursome for a 9-hole scramble tournament on&nbsp\;the legendary&nbsp\;Pebble Beach Golf Links (back 9).&nbsp\;Tee times are slotted from 7:30 am - 4:30 pm and are first come\, first serve. Teams should expect to complete the round in under 90 minutes.&nbsp\;Maximum of 30 teams. After play\, join us at 5pm for The 19th Hole Celebration back at Topgolf Swing Suite at The Venue on Main.</p>\n\n<p><strong>Want to feel like a VIP?</strong>&nbsp\;No problem! We have six tee times available for those who would like an upgraded experience in the VIP Swing Suite.</p>\n\n<p><strong>Price:</strong><br />\n$300 per foursome&nbsp\;- includes 90-minutes of play\,&nbsp\;food and beverage credit\, player gift and post round celebration</p>\n\n<p>$450/VIP foursome (6 Slots) &ndash\;&nbsp\; includes 90-minutes of play in the spacious luxury suite\,&nbsp\;food and beverage credit\, exclusive T-shirt&nbsp\;and&nbsp\;VIP player gifts and post round celebration</p>\n\n<p><em>Add-ons available at time of purchase.</em></p>\n
LOCATION:Topgolf Swing Suite at The Venue on Main 1624 Main Street\, Columbia\, SC 29201
UID:e.1333.3293
SEQUENCE:3
DTSTAMP:20260423T054304Z
URL:https://business.greaterirmochamber.com/events/details/united-way-s-small-business-alliance-driving-down-main-topgolf-swing-suite-tournament-3293
END:VEVENT

END:VCALENDAR
