BEGIN:VCALENDAR
VERSION:2.0
PRODID:-//ChamberMaster//Event Calendar 2.0//EN
METHOD:PUBLISH
X-PUBLISHED-TTL:P3D
REFRESH-INTERVAL:P3D
CALSCALE:GREGORIAN
BEGIN:VEVENT
DTSTART;VALUE=DATE:20190408
DTEND;VALUE=DATE:20190414
TRANSP:TRANSPARENT
X-MICROSOFT-CDO-ALLDAYEVENT:TRUE
SUMMARY:United Way Volunteer Week
DESCRIPTION:Join United Way of the Midlands for Volunteer Week April 8 - 13!\n\n \n\nIn honor of National Volunteer Month\, United Way's annual Volunteer Week offers more than 25 different projects for members of the community to give back to local nonprofit agencies. With a variety of project types\, the week is great for groups or individuals to sign up to give back.\n\n \n\nVisit volunteer.uway.org to view the list of projects and to sign up.\n\nVolunteer registration ends April 5.
X-ALT-DESC;FMTTYPE=text/html:Join United Way of the Midlands for Volunteer Week April 8 - 13!<br />\n&nbsp\;<br />\nIn honor of National Volunteer Month\, United Way&#39\;s annual Volunteer Week offers more than 25 different projects for members of the community to give back to local nonprofit agencies. With a variety of project types\, the week is great for groups or individuals to sign up to give back.<br />\n&nbsp\;<br />\nVisit <a href="https://volunteer.uway.org/aem/general/event/?doc_id=5345" target="_blank">volunteer.uway.org</a> to view the list of projects and to sign up.<br />\n<span style="font-family:calibri\,sans-serif"><span style="font-size:11.0pt">Volunteer registration ends April 5.</span></span>
LOCATION:
UID:e.1333.3308
SEQUENCE:3
DTSTAMP:20260423T022928Z
URL:https://business.greaterirmochamber.com/events/details/united-way-volunteer-week-3308
END:VEVENT

END:VCALENDAR
