BEGIN:VCALENDAR
VERSION:2.0
PRODID:-//ChamberMaster//Event Calendar 2.0//EN
METHOD:PUBLISH
X-PUBLISHED-TTL:P3D
REFRESH-INTERVAL:P3D
CALSCALE:GREGORIAN
BEGIN:VEVENT
DTSTART:20180709T153000Z
DTEND:20180709T163000Z
X-MICROSOFT-CDO-ALLDAYEVENT:FALSE
SUMMARY:Universal School of Karate Grand Opening and Ribbon Cutting
DESCRIPTION:Join us to welcome Luis Campos and the Universal School of Karate to our Chamber!!! Ribbon Cutting at 11:45 a.m.\n\nLight Lunch will be provided
X-ALT-DESC;FMTTYPE=text/html:Join us to welcome Luis Campos and the Universal School of Karate to our Chamber!!! Ribbon Cutting at 11:45 a.m.<br />\nLight Lunch will be provided
LOCATION:7325 St. Andrews Road
UID:e.1333.3219
SEQUENCE:3
DTSTAMP:20260423T163446Z
URL:https://business.greaterirmochamber.com/events/details/universal-school-of-karate-grand-opening-and-ribbon-cutting-3219
END:VEVENT

END:VCALENDAR
