BEGIN:VCALENDAR
VERSION:2.0
PRODID:-//ChamberMaster//Event Calendar 2.0//EN
METHOD:PUBLISH
X-PUBLISHED-TTL:P3D
REFRESH-INTERVAL:P3D
CALSCALE:GREGORIAN
BEGIN:VEVENT
DTSTART:20170212T003000Z
DTEND:20170212T030000Z
X-MICROSOFT-CDO-ALLDAYEVENT:FALSE
SUMMARY:Valentine's Cinema: An Affair to Remember
DESCRIPTION:From the deck of an ocean liner to the top of the Empire State Building\, this whirlwind dramatic adventure of love found\, love lost\, and – hopefully – love found again celebrates our fifth-annual Valentine’s Cinema. In an evening perfect for sharing with anyone you love\, join us for a dessert and champagne reception in the lobby before setting sail with Cary Grant and Deborah Kerr. “Anything could happen\, don’t you think?”
X-ALT-DESC;FMTTYPE=text/html:From the deck of an ocean liner to the top of the Empire State Building\, this whirlwind dramatic adventure of love found\, love lost\, and – hopefully – love found again celebrates our fifth-annual Valentine’s Cinema. In an evening perfect for sharing with anyone you love\, join us for a dessert and champagne reception in the lobby before setting sail with Cary Grant and Deborah Kerr. “Anything could happen\, don’t you think?”\n
LOCATION:Harbison Theatre at Midlands Technical College 7300 College Street Irmo\, SC 29063 803-407-5011
UID:e.1333.2453
SEQUENCE:3
DTSTAMP:20260424T184651Z
URL:https://business.greaterirmochamber.com/events/details/valentine-s-cinema-an-affair-to-remember-02-11-2017-2453
END:VEVENT

END:VCALENDAR
