BEGIN:VCALENDAR
VERSION:2.0
PRODID:-//ChamberMaster//Event Calendar 2.0//EN
METHOD:PUBLISH
X-PUBLISHED-TTL:P3D
REFRESH-INTERVAL:P3D
CALSCALE:GREGORIAN
BEGIN:VEVENT
DTSTART:20180211T010000Z
DTEND:20180211T030000Z
X-MICROSOFT-CDO-ALLDAYEVENT:FALSE
SUMMARY:Valentine's Cinema: Sabrina
DESCRIPTION:Comedy\, drama\, romance\, and three members of Hollywood's royalty mark this celebratory Harbison Theatre tradition. Two very different brothers fall for the same woman\, who finds herself drawn to both. When it's Humphrey Bogart\, William Holden\, and Audrey Hepburn\, it's easy to see how this love triangle emerges! Join us in the lobby at 7 PM for dessert\, champagne\, and dancing before the film.
X-ALT-DESC;FMTTYPE=text/html:Comedy\, drama\, romance\, and three members of Hollywood&rsquo\;s royalty mark this celebratory Harbison Theatre tradition. Two very different brothers fall for the same woman\, who finds herself drawn to both. When it&rsquo\;s Humphrey Bogart\, William Holden\, and Audrey Hepburn\, it&rsquo\;s easy to see how this love triangle emerges! Join us in the lobby at 7 PM for dessert\, champagne\, and dancing before the film.
LOCATION:Harbison Theatre at Midlands Technical College 7300 College Street\, Irmo\, SC 29063
UID:e.1333.2787
SEQUENCE:3
DTSTAMP:20260424T003849Z
URL:https://business.greaterirmochamber.com/events/details/valentine-s-cinema-sabrina-2787
END:VEVENT

END:VCALENDAR
