BEGIN:VCALENDAR
VERSION:2.0
PRODID:-//ChamberMaster//Event Calendar 2.0//EN
METHOD:PUBLISH
X-PUBLISHED-TTL:P3D
REFRESH-INTERVAL:P3D
CALSCALE:GREGORIAN
BEGIN:VEVENT
DTSTART;VALUE=DATE:20160928
DTEND;VALUE=DATE:20160929
TRANSP:TRANSPARENT
X-MICROSOFT-CDO-ALLDAYEVENT:TRUE
SUMMARY:Viking River Cruise and AAA Carolinas presents River Cruising through France
DESCRIPTION:Join the Viking River Cruise Representative\, otal Wine and More and AAA Carolinas as we Sample French Wines and learn about the fabulous Viking River Cruising through France and beyond.  The wine tasting is $15.00 per person.  RSVP required.  Payment will be made at Total wine for the wine tasting.
X-ALT-DESC;FMTTYPE=text/html:Join the Viking River Cruise Representative\, otal Wine and More and AAA Carolinas as we Sample French Wines and learn about the fabulous Viking River Cruising through France and beyond. &nbsp\;The wine tasting is $15.00 per person. &nbsp\;RSVP required. &nbsp\;Payment will be made at Total wine for the wine tasting. &nbsp\;
LOCATION:Total Wine and More\, Harbison Drive\, Columbia
UID:e.1333.2489
SEQUENCE:3
DTSTAMP:20260425T034334Z
URL:https://business.greaterirmochamber.com/events/details/viking-river-cruise-and-aaa-carolinas-presents-river-cruising-through-france-2489
END:VEVENT

END:VCALENDAR
