BEGIN:VCALENDAR
VERSION:2.0
PRODID:-//ChamberMaster//Event Calendar 2.0//EN
METHOD:PUBLISH
X-PUBLISHED-TTL:P3D
REFRESH-INTERVAL:P3D
CALSCALE:GREGORIAN
BEGIN:VEVENT
DTSTART:20171007T133000Z
DTEND:20171007T160000Z
X-MICROSOFT-CDO-ALLDAYEVENT:FALSE
SUMMARY:Vision Board Workshop!
DESCRIPTION:Do you have big goals in your life that you really\, really want to accomplish? Or maybe you are in a new season of life   your kids are in school or off to college and you just can't seem to find a direction?  \n\n\n\nAs an expert Empowerment Coach\, I know how frustrating it can be to have big goals and dreams in your life and not be able to reach them.  \n\n\n\nIn this workshop\, we will use a vision board process to evaluate what is most important and to establish your goals. You will leave feeling energized and excited about the new direction for your life\, along with action steps that you can take to get started right away   and you won't have to wait for the New Year to feel great!\n\nAs a bonus\, attending this event includes 2 sessions of life design coaching with Empowerment Coach\, Mindy Hope ($100 value) and unlimited email and text coaching and support to help you achieve the goals you set out in the workshop.\n\n\n\nAll materials are included and light refreshments will be provided!\n\n\n\nCost: $79
X-ALT-DESC;FMTTYPE=text/html:<span style="color:rgb(75\, 79\, 86)\; font-family:sf optimized\,system-ui\,-apple-system\,blinkmacsystemfont\,.sfnstext-regular\,sans-serif\; font-size:14.40000057220459px">Do you have big goals in your life that you really\, really want to accomplish? Or maybe you are in a new season of life &ndash\; your kids are in school or off to college and you just can&rsquo\;t seem to find a direction?&nbsp\;&nbsp\;</span><br />\n<br />\n<span style="color:rgb(75\, 79\, 86)\; font-family:sf optimized\,system-ui\,-apple-system\,blinkmacsystemfont\,.sfnstext-regular\,sans-serif\; font-size:14.40000057220459px">As an expert Empowerment Coach\, I know how frustrating it can be to have big goals and dreams in your life and not be able to reach them.&nbsp\;&nbsp\;</span><br />\n<br />\n<span style="color:rgb(75\, 79\, 86)\; font-family:sf optimized\,system-ui\,-apple-system\,blinkmacsystemfont\,.sfnstext-regular\,sans-serif\; font-size:14.40000057220459px">In this workshop\, we will use a vision board process to evaluate what is most important and to establish your goals. You will leave feeling energized and excited about the new direction for your life\, along with action steps that you can take to get started right away &ndash\; and you won&rsquo\;t have to wait for the New Year to feel great!</span><br />\n<span style="color:rgb(75\, 79\, 86)\; font-family:sf optimized\,system-ui\,-apple-system\,blinkmacsystemfont\,.sfnstext-regular\,sans-serif\; font-size:14.40000057220459px">As a bonus\, attending this event includes 2 sessions of life design coaching with Empowerment Coach\, Mindy Hope ($100 value) and unlimited email and text coaching and support to help you achieve the goals you set out in the workshop.</span><br />\n<br />\n<span style="color:rgb(75\, 79\, 86)\; font-family:sf optimized\,system-ui\,-apple-system\,blinkmacsystemfont\,.sfnstext-regular\,sans-serif\; font-size:14.40000057220459px">All materials are included and light refreshments will be provided!</span><br />\n<br />\n<span style="color:rgb(75\, 79\, 86)\; font-family:sf optimized\,system-ui\,-apple-system\,blinkmacsystemfont\,.sfnstext-regular\,sans-serif\; font-size:14.40000057220459px">Cost: $79</span>
LOCATION:Harbison Panera Bread\, 1007 Bower Parkway Columbia\, SC 29212
UID:e.1333.2913
SEQUENCE:3
DTSTAMP:20260424T064627Z
URL:https://business.greaterirmochamber.com/events/details/vision-board-workshop-2913
END:VEVENT

END:VCALENDAR
